Workbook

Sheet Stundennachweis
A4: Stundennachweis Kosten je Einheit
A6: Antragsnummer:
A7: Arbeitgeber:
A8: Name, Vorname:
A9: Tätigkeit:
A10: KjE-Satz:
A11: 44927 | C11: Geleistete Produktiv-stunden | E11: Anmerkung: Produktive Stunden sind tatsächlich geleistete Arbeits- stunden. Ausfallzeiten für z.B. Urlaubs- und Krankheitstage werden dagegen nicht berücksichtigt.
A12: =VLOOKUP($B12,'Kalender 2019'!$A:$B,2,0) -> Sonntag | B12: =VLOOKUP($A$11,Tabelle3!$A:$B,2,0) -> 44927
A13: =VLOOKUP($B13,'Kalender 2019'!$A:$B,2,0) -> Montag | B13: =B12+1 -> 44928
A14: =VLOOKUP($B14,'Kalender 2019'!$A:$B,2,0) -> Dienstag | B14: =B13+1 -> 44929
A15: =VLOOKUP($B15,'Kalender 2019'!$A:$B,2,0) -> Mittwoch | B15: =B14+1 -> 44930
A16: =VLOOKUP($B16,'Kalender 2019'!$A:$B,2,0) -> Donnerstag | B16: =B15+1 -> 44931
A17: =VLOOKUP($B17,'Kalender 2019'!$A:$B,2,0) -> Freitag | B17: =B16+1 -> 44932
A18: =VLOOKUP($B18,'Kalender 2019'!$A:$B,2,0) -> Samstag | B18: =B17+1 -> 44933
A19: =VLOOKUP($B19,'Kalender 2019'!$A:$B,2,0) -> Sonntag | B19: =B18+1 -> 44934
A20: =VLOOKUP($B20,'Kalender 2019'!$A:$B,2,0) -> Montag | B20: =B19+1 -> 44935
A21: =VLOOKUP($B21,'Kalender 2019'!$A:$B,2,0) -> Dienstag | B21: =B20+1 -> 44936
A22: =VLOOKUP($B22,'Kalender 2019'!$A:$B,2,0) -> Mittwoch | B22: =B21+1 -> 44937
A23: =VLOOKUP($B23,'Kalender 2019'!$A:$B,2,0) -> Donnerstag | B23: =B22+1 -> 44938
A24: =VLOOKUP($B24,'Kalender 2019'!$A:$B,2,0) -> Freitag | B24: =B23+1 -> 44939
... A39: =VLOOKUP($B39,'Kalender 2019'!$A:$B,2,0) -> Samstag | B39: =B38+1 -> 44954
A40: =VLOOKUP($B40,'Kalender 2019'!$A:$B,2,0) -> Sonntag | B40: =B39+1 -> 44955 | E40: Bitte keine Folgemonatstage eintragen, sondern nur geleistete Produktivstunden für den abzurechnenden Monat.
A41: =VLOOKUP($B41,'Kalender 2019'!$A:$B,2,0) -> Montag | B41: =B40+1 -> 44956
A42: =VLOOKUP($B42,'Kalender 2019'!$A:$B,2,0) -> Dienstag | B42: =B41+1 -> 44957
A43: ∑ Produktivstunden: | C43: =SUM(C12:C42) -> 0
A46: Datum/Unterschrift des Beschäftigten:
A47: Datum/Unterschrift des Vorgesetzten:
A65: Koordinierungsstelle | E65: 1
A66: Case Management | E66: 2
A67: Aufsuchende Arbeit/Beratungsstelle | E67: 3
A68: Mikroprojekt | E68: 4
E69: 5
E70: 6

Sheet Kalender 2019
A1: 43466 | B1: Dienstag
A2: 43467 | B2: Mittwoch
A3: 43468 | B3: Donnerstag
A4: 43469 | B4: Freitag
A5: 43470 | B5: Samstag
A6: 43471 | B6: Sonntag
A7: 43472 | B7: Montag
A8: 43473 | B8: Dienstag
A9: 43474 | B9: Mittwoch
A10: 43475 | B10: Donnerstag
A11: 43476 | B11: Freitag
A12: 43477 | B12: Samstag
... A3287: 46752 | B3287: Freitag

Sheet Tabelle3
A1: ID | B1: Monate
A2: =B2 -> 43466 | B2: 43466
A3: 43497 | B3: 43497
A4: 43525 | B4: 43525
A5: 43556 | B5: 43556
A6: 43586 | B6: 43586
A7: 43617 | B7: 43617
A8: 43647 | B8: 43647
A9: 43678 | B9: 43678
A10: 43709 | B10: 43709
A11: 43739 | B11: 43739
A12: 43770 | B12: 43770
A13: 43800 | B13: 43800
A14: 43831 | B14: 43831
... A109: 46722 | B109: 46722
